BEGIN:VCALENDAR
VERSION:2.0
PRODID:-//TYPO3/NONSGML Calendarize//EN
BEGIN:VEVENT
UID:calendarize-termine/hochschule/from-trash-to-cash-insekten-als-bioreak
 tor-20460521-244
DTSTAMP:20260409T132643Z
DTSTART:20460521T160000Z
DTEND:20460521T173000Z
SUMMARY:From trash to cash - Insekten als Bioreaktor?
DESCRIPTION:
X-ALT-DESC;FMTTYPE=text/html:
LOCATION:Gesellschaftshaus Kirn\, Neue Straße 13\, 55606 Kirn\, großer S
 aal\, EG
END:VEVENT
END:VCALENDAR
